BEGIN:VCALENDAR
VERSION:2.0
PRODID:-//Under the Stars Campground - ECPv6.15.20//NONSGML v1.0//EN
CALSCALE:GREGORIAN
METHOD:PUBLISH
X-ORIGINAL-URL:https://underthestarscampground.com
X-WR-CALDESC:Events for Under the Stars Campground
REFRESH-INTERVAL;VALUE=DURATION:PT1H
X-Robots-Tag:noindex
X-PUBLISHED-TTL:PT1H
BEGIN:VTIMEZONE
TZID:America/New_York
BEGIN:DAYLIGHT
TZOFFSETFROM:-0500
TZOFFSETTO:-0400
TZNAME:EDT
DTSTART:20250309T070000
END:DAYLIGHT
BEGIN:STANDARD
TZOFFSETFROM:-0400
TZOFFSETTO:-0500
TZNAME:EST
DTSTART:20251102T060000
END:STANDARD
BEGIN:DAYLIGHT
TZOFFSETFROM:-0500
TZOFFSETTO:-0400
TZNAME:EDT
DTSTART:20260308T070000
END:DAYLIGHT
BEGIN:STANDARD
TZOFFSETFROM:-0400
TZOFFSETTO:-0500
TZNAME:EST
DTSTART:20261101T060000
END:STANDARD
BEGIN:DAYLIGHT
TZOFFSETFROM:-0500
TZOFFSETTO:-0400
TZNAME:EDT
DTSTART:20270314T070000
END:DAYLIGHT
BEGIN:STANDARD
TZOFFSETFROM:-0400
TZOFFSETTO:-0500
TZNAME:EST
DTSTART:20271107T060000
END:STANDARD
END:VTIMEZONE
BEGIN:VTIMEZONE
TZID:UTC
BEGIN:STANDARD
TZOFFSETFROM:+0000
TZOFFSETTO:+0000
TZNAME:UTC
DTSTART:20250101T000000
END:STANDARD
END:VTIMEZONE
BEGIN:VEVENT
DTSTART;TZID=America/New_York:20260404T170000
DTEND;TZID=America/New_York:20260406T140000
DTSTAMP:20260424T001923
CREATED:20260227T205039Z
LAST-MODIFIED:20260227T232149Z
UID:408-1775322000-1775484000@underthestarscampground.com
SUMMARY:Easter Weekend Campout
DESCRIPTION:  \nGet ready for a glowing good time! 🌟 Join us from April 3rd–5th for our Easter Weekend Campout. The highlight of the weekend? Our epic GLOW Egg Hunt\, packed with awesome prizes for the kids! Pack up the tent\, load up the camper and bring the whole family for a weekend of unforgettable outdoor fun. \n  \n\n\n\n  \n 
URL:https://underthestarscampground.com/event/easter-weekend-campout/
LOCATION:Under the Stars Campground\, 7896 Roundhouse Rd\, New Marshfield\, OH\, 43138\, United States
ATTACH;FMTTYPE=image/jpeg:https://underthestarscampground.com/wp-content/uploads/2026/02/3778BB79-6CDF-4942-B72A-09EE3ADDF340_1_105_c.jpeg
END:VEVENT
BEGIN:VEVENT
DTSTART;TZID=UTC:20260523T140000
DTEND;TZID=UTC:20260526T210000
DTSTAMP:20260424T001923
CREATED:20260227T231358Z
LAST-MODIFIED:20260305T233243Z
UID:427-1779544800-1779829200@underthestarscampground.com
SUMMARY:Memorial Day Weekend
DESCRIPTION:Kick off summer with an unforgettable Memorial Day Weekend\, May 22nd–25th! Grab your favorite people for a few days of sun and fun\, featuring high-stakes games\, our annual fishing tournament\, and a FREE cookout Saturday. Bring a side or dessert if you like. Don’t just spend the weekend—make memories that last.” \n  \nFishing Tournament: May 22nd – May 24th at 4pm. Longest fish of the weekend wins a FREE weekend of camping! \n  \n\n  \n\n  \n 
URL:https://underthestarscampground.com/event/memorial-day-weekend/
LOCATION:Under the Stars Campground\, 7896 Roundhouse Rd\, New Marshfield\, OH\, 43138\, United States
END:VEVENT
END:VCALENDAR