BEGIN:VCALENDAR
VERSION:2.0
PRODID:-//Under the Stars Campground - ECPv6.15.20//NONSGML v1.0//EN
CALSCALE:GREGORIAN
METHOD:PUBLISH
X-WR-CALNAME:Under the Stars Campground
X-ORIGINAL-URL:https://underthestarscampground.com
X-WR-CALDESC:Events for Under the Stars Campground
REFRESH-INTERVAL;VALUE=DURATION:PT1H
X-Robots-Tag:noindex
X-PUBLISHED-TTL:PT1H
BEGIN:VTIMEZONE
TZID:UTC
BEGIN:STANDARD
TZOFFSETFROM:+0000
TZOFFSETTO:+0000
TZNAME:UTC
DTSTART:20230101T000000
END:STANDARD
END:VTIMEZONE
BEGIN:VEVENT
DTSTART;TZID=UTC:20240526T160000
DTEND;TZID=UTC:20240526T190000
DTSTAMP:20260423T230923
CREATED:20240201T204606Z
LAST-MODIFIED:20240201T204714Z
UID:380-1716739200-1716750000@underthestarscampground.com
SUMMARY:Memorial Day Cookout
DESCRIPTION:Registered campers can join us Sunday May 26th at 4p for our annual Memorial Day cookout! \nWe will provide Burgers and Hot Dogs with all the fixings\, chips\, bottles water and dessert. Feel free to bring a side dish or dessert to add to the spread. \n  \nDon’t have a site booked yet? CLICK HERE to book a reservation
URL:https://underthestarscampground.com/event/memorial-day/
LOCATION:Under the Stars Campground\, 7896 Roundhouse Rd\, New Marshfield\, OH\, 43138\, United States
ATTACH;FMTTYPE=image/png:https://underthestarscampground.com/wp-content/uploads/2024/02/Cream-Red-Grey-Personal-Vintage-Americana-Labor-Day-Invitation.png
END:VEVENT
END:VCALENDAR